BEGIN:VCALENDAR
VERSION:2.0
PRODID:-//swoogo.com//NONSGML kigkonsult.se iCalcreator 2.41.90//
CALSCALE:GREGORIAN
UID:64323834-3438-4065-a561-353830363761
BEGIN:VEVENT
UID:412d0e81d95177a2e196e6afa7330b8c683ea46f@swoogo.com
DTSTAMP:20260419T183127Z
DESCRIPTION:The AM&AA Summer Conference is an annual event delivering excep
 tional educational content and networking opportunities\, providing sponso
 rs\, attendees and speakers valuable face-to-face time. The line-up of pro
 fessionals attending includes executives from preeminent investment banks 
 and intermediaries\, leading private equity investors\, senior and mezzani
 ne lenders\, CPAs\, attorneys\, business valuators\, consultants\, and oth
 er M&A advisors\, representing countries from all over the world. Don’t mi
 ss the opportunity to network with hundreds of decision-makers with a comb
 ined $1 billion in transactional buying power over the next year.\n\nTo re
 turn to the event website\, click here. [https://www.amaaconference.com/20
 24summerconference/1056931]
DTSTART:20240730T130000Z
DTEND:20240731T233000Z
LAST-MODIFIED:20260419T183127Z
LOCATION:Renaissance Chicago Downtown Hotel\, 1 West Upper Wacker Drive\, C
 hicago\, IL 60601\, United States
SEQUENCE:0
STATUS:CONFIRMED
SUMMARY:AM&AA 2024 Summer Conference
TRANSP:OPAQUE
X-ALT-DESC;FMTTYPE=text/html:<p>The AM&AA Summer Conference is an annual ev
 ent delivering exceptional educational content and networking opportunitie
 s\, providing sponsors\, attendees and speakers valuable face-to-face time
 . The line-up of professionals attending includes executives from preemine
 nt investment banks and intermediaries\, leading private equity investors\
 , senior and mezzanine lenders\, CPAs\, attorneys\, business valuators\, c
 onsultants\, and other M&A advisors\, representing countries from all over
  the world. Don’t miss the opportunity to network with hundreds of decisio
 n-makers with a combined $1 billion in transactional buying power over the
  next year.<br /><br />\nTo return to the event website\, <a href='https:/
 /www.amaaconference.com/2024summerconference/1056931' target='_blank' rel=
 'noreferrer noopener'>click here.</a></p>
BEGIN:VALARM
UID:31343731-6566-4435-a566-393234346130
ACTION:DISPLAY
DESCRIPTION:The AM&AA Summer Conference is an annual event delivering excep
 tional educational content and networking opportunities\, providing sponso
 rs\, attendees and speakers valuable face-to-face time. The line-up of pro
 fessionals attending includes executives from preeminent investment banks 
 and intermediaries\, leading private equity investors\, senior and mezzani
 ne lenders\, CPAs\, attorneys\, business valuators\, consultants\, and oth
 er M&A advisors\, representing countries from all over the world. Don’t mi
 ss the opportunity to network with hundreds of decision-makers with a comb
 ined $1 billion in transactional buying power over the next year.\n\nTo re
 turn to the event website\, click here. [https://www.amaaconference.com/20
 24summerconference/1056931]
TRIGGER:-P1D
END:VALARM
END:VEVENT
END:VCALENDAR
